BEGIN:VCALENDAR
VERSION:2.0
PRODID:City of Loveland Calendar Creator
METHOD:PUBLISH
BEGIN:VEVENT
DTSTAMP:20230523T113047
DTSTART:20230419T150000
DTEND:20230419T170000
SUMMARY:Loveland Utilities Commission
DESCRIPTION:<p><a href="https://cilovelandco.civicweb.net/Portal/MeetingInformation.aspx?Org=Cal&amp;Id=1874" target="_blank">Agenda Packet</a></p><p><a href="https://lovelandpolice.prod-as.govaccess.org/home/showpublisheddocument/58726/638204380887330000" target="_blank">Approved Minutes</a></p>
X-ALT-DESC;FMTTYPE=text/html:<p><a href="https://cilovelandco.civicweb.net/Portal/MeetingInformation.aspx?Org=Cal&amp;Id=1874" target="_blank">Agenda Packet</a></p><p><a href="https://lovelandpolice.prod-as.govaccess.org/home/showpublisheddocument/58726/638204380887330000" target="_blank">Approved Minutes</a></p>
LOCATION:
CLASS:PUBLIC
END:VEVENT
END:VCALENDAR
