BEGIN:VCALENDAR
VERSION:2.0
PRODID:City of Loveland Calendar Creator
METHOD:PUBLISH
BEGIN:VEVENT
DTSTAMP:20260210T102625
DTSTART:20260421T120000
DTEND:20260421T130000
SUMMARY:Stitch Break
DESCRIPTION:<p>Take a stitch break during this monthly crafting meetup. Bring your own knitting, crochet, or handcraft to work on along with your lunch or snack and socialize with other crafters.</p>
X-ALT-DESC;FMTTYPE=text/html:<p>Take a stitch break during this monthly crafting meetup. Bring your own knitting, crochet, or handcraft to work on along with your lunch or snack and socialize with other crafters.</p>
LOCATION:Erion Room\, 300 N. Adams Avenue Loveland\, Colorado 80537
CLASS:PUBLIC
END:VEVENT
END:VCALENDAR
