BEGIN:VCALENDAR
VERSION:2.0
PRODID:City of Loveland Calendar Creator
METHOD:PUBLISH
BEGIN:VEVENT
DTSTAMP:20260403T120638
DTSTART:20260418T113000
DTEND:20260418T130000
SUMMARY:Tech Talks: Data Backup & File Protection
DESCRIPTION:<p>This session explains what your data is, how to back it up, and how to protect it. It covers the devices you can use for data backup, the different backup methods and their advantages and disadvantages, and the steps involved in creating backups. The presentation also highlights the importance of password protection and encryption, and it explains how to restore data from saved backups. Both online and offline backup options will be discussed, along with recommendations for safe, free, and reliable software. In addition, attendees will receive information about free resources for further learning and opportunities for individualized tech help. Snacks and refreshments provided on first come, first serve basis.</p><h5>Speaker: John Williams</h5><p>John Williams has worked for 20+ years in Tech and holds an M.A. in Psychology.</p><p>John has a Master’s Degree in Psychology &amp; Communications and has been teaching and building for the web since its earliest days. He is an AARP‑certified technology educator, passionate about making his wide range of knowledge in tech&nbsp;approachable, and&nbsp;its benefits accessible&nbsp;for all ages and skill levels.</p><p>He also enjoys iced tea and occasionally making&nbsp;instrumental music.</p><p>You can follow him on&nbsp;<a href="http://techhub.social/@johnteachestech" target="_blank" rel="noopener">Mastodon</a>&nbsp;and&nbsp;<a href="https://github.com/johnwilliamstech" target="_blank" rel="noopener">Github</a>, and you can contact him via the form on&nbsp;<a href="https://johnwilliams.digital/johnteachestech/about/" target="_blank" rel="noopener">his website</a>.</p>
X-ALT-DESC;FMTTYPE=text/html:<p>This session explains what your data is, how to back it up, and how to protect it. It covers the devices you can use for data backup, the different backup methods and their advantages and disadvantages, and the steps involved in creating backups. The presentation also highlights the importance of password protection and encryption, and it explains how to restore data from saved backups. Both online and offline backup options will be discussed, along with recommendations for safe, free, and reliable software. In addition, attendees will receive information about free resources for further learning and opportunities for individualized tech help. Snacks and refreshments provided on first come, first serve basis.</p><h5>Speaker: John Williams</h5><p>John Williams has worked for 20+ years in Tech and holds an M.A. in Psychology.</p><p>John has a Master’s Degree in Psychology &amp; Communications and has been teaching and building for the web since its earliest days. He is an AARP‑certified technology educator, passionate about making his wide range of knowledge in tech&nbsp;approachable, and&nbsp;its benefits accessible&nbsp;for all ages and skill levels.</p><p>He also enjoys iced tea and occasionally making&nbsp;instrumental music.</p><p>You can follow him on&nbsp;<a href="http://techhub.social/@johnteachestech" target="_blank" rel="noopener">Mastodon</a>&nbsp;and&nbsp;<a href="https://github.com/johnwilliamstech" target="_blank" rel="noopener">Github</a>, and you can contact him via the form on&nbsp;<a href="https://johnwilliams.digital/johnteachestech/about/" target="_blank" rel="noopener">his website</a>.</p>
LOCATION:Gertrude Scott Meeting Room\, 300 N. Adams Avenue Loveland\, Colorado 80537
CLASS:PUBLIC
END:VEVENT
END:VCALENDAR
