BEGIN:VCALENDAR
VERSION:2.0
PRODID:City of Loveland Calendar Creator
METHOD:PUBLISH
BEGIN:VEVENT
DTSTAMP:20260414T100023
DTSTART:20260424T000000
DTEND:20260606T235900
SUMMARY:Governor's Art Show & Sale
DESCRIPTION:<div fl-module-rich-text="" fl-node-617986a6256b7"="" data-node="617986a6256b7"><div fl-node-content"=""><div><p>Join us in celebrating 35 years of excellence at the Governor’s Art Show and Sale, presented by the Loveland and Thompson Valley Rotary Clubs in partnership with the Loveland Museum. 100% of the net proceeds from the event benefit Rotary-sponsored charitable projects. This juried exhibition will showcase the exceptional works of 65 talented Colorado artists, highlighting a diverse range of mediums, techniques, and styles.</p><p>The Governor's Art Show beautifully merges artistic excellence with the power of philanthropy. Over $4 million has been distributed to artists, nonprofits and art scholarships. Over $150,000 has been distributed to the Thompson Education Resiliency Fund for Unhoused Youth which addresses emergencies and basic needs for students in need.</p><p>Please visit:<a href="http://www.governorsartshow.org/">&nbsp;www.governorsartshow.org</a>&nbsp;for more information.</p></div></div></div>
X-ALT-DESC;FMTTYPE=text/html:<div fl-module-rich-text="" fl-node-617986a6256b7"="" data-node="617986a6256b7"><div fl-node-content"=""><div><p>Join us in celebrating 35 years of excellence at the Governor’s Art Show and Sale, presented by the Loveland and Thompson Valley Rotary Clubs in partnership with the Loveland Museum. 100% of the net proceeds from the event benefit Rotary-sponsored charitable projects. This juried exhibition will showcase the exceptional works of 65 talented Colorado artists, highlighting a diverse range of mediums, techniques, and styles.</p><p>The Governor's Art Show beautifully merges artistic excellence with the power of philanthropy. Over $4 million has been distributed to artists, nonprofits and art scholarships. Over $150,000 has been distributed to the Thompson Education Resiliency Fund for Unhoused Youth which addresses emergencies and basic needs for students in need.</p><p>Please visit:<a href="http://www.governorsartshow.org/">&nbsp;www.governorsartshow.org</a>&nbsp;for more information.</p></div></div></div>
LOCATION:Loveland Museum/Gallery\, 503 N. Lincoln Avenue Loveland\, Colorado 80537
CLASS:PUBLIC
END:VEVENT
END:VCALENDAR
